BEGIN:VCALENDAR
VERSION:2.0
PRODID:-//Farmadomo Home Care Provider SA - ECPv6.15.19//NONSGML v1.0//EN
CALSCALE:GREGORIAN
METHOD:PUBLISH
X-ORIGINAL-URL:https://farmadomo.ch
X-WR-CALDESC:Eventi per Farmadomo Home Care Provider SA
REFRESH-INTERVAL;VALUE=DURATION:PT1H
X-Robots-Tag:noindex
X-PUBLISHED-TTL:PT1H
BEGIN:VTIMEZONE
TZID:Europe/Zurich
BEGIN:DAYLIGHT
TZOFFSETFROM:+0100
TZOFFSETTO:+0200
TZNAME:CEST
DTSTART:20250330T010000
END:DAYLIGHT
BEGIN:STANDARD
TZOFFSETFROM:+0200
TZOFFSETTO:+0100
TZNAME:CET
DTSTART:20251026T010000
END:STANDARD
BEGIN:DAYLIGHT
TZOFFSETFROM:+0100
TZOFFSETTO:+0200
TZNAME:CEST
DTSTART:20260329T010000
END:DAYLIGHT
BEGIN:STANDARD
TZOFFSETFROM:+0200
TZOFFSETTO:+0100
TZNAME:CET
DTSTART:20261025T010000
END:STANDARD
BEGIN:DAYLIGHT
TZOFFSETFROM:+0100
TZOFFSETTO:+0200
TZNAME:CEST
DTSTART:20270328T010000
END:DAYLIGHT
BEGIN:STANDARD
TZOFFSETFROM:+0200
TZOFFSETTO:+0100
TZNAME:CET
DTSTART:20271031T010000
END:STANDARD
END:VTIMEZONE
BEGIN:VEVENT
DTSTART;TZID=Europe/Zurich:20260430T140000
DTEND;TZID=Europe/Zurich:20260430T180000
DTSTAMP:20260419T143549
CREATED:20260204T133254Z
LAST-MODIFIED:20260210T094625Z
UID:11450-1777557600-1777572000@farmadomo.ch
SUMMARY:Farmaci a domicilio: a cosa prestare attenzione
DESCRIPTION:OBIETTIVO DEL CORSO\n\nCome gestire\, conservare ed eliminare in modo corretto i medicamenti al domicilio del paziente\nPanoramica sulla corretta preparazione\, controllo e somministrazione delle terapie farmacologiche\nCome riconoscere interazioni medicamentose rilevanti e gli effetti collaterali più comuni\nIl coinvolgimento del paziente e la collaborazione fra curanti\nEsempi pratici\nAttestato di frequenza\nECS: 4 crediti (Regolamento sistema ECS)\n\n			\n				\n				\n				\n				\n				\n				\n				\n					\n				\n			\n				\n			\n				Locandina in PDF\n			\n			\n				\n				\n				\n				\n			\n				\n				\n				\n				\n				\n				\n				\n				\n				\n				\n				\n			\n				\n				\n				\n				\n				4 ECS\n			\n			\n				\n				\n				\n				\n				\n			\n				\n				\n				\n				\n				\n			\n				\n				\n				\n				\n				\n			\n				\n				\n				\n				\n				\n			\n				\n				\n				\n				\n			\n				\n				\n				\n				\n				\n				\n				\n				\n				\n				\n				FORMATORE / I\nSara Ghidossi\, farmacista FPH in farmacia clinica\n			\n			\n				\n				\n				\n				\n			\n				\n				\n				\n				\n				\n				\n				\n				\n				\n				\n				MODULO DI ISCRIZIONE\nPer poter inviare il modulo di iscrizione è necessario accettare l'informativa sulla protezione dei dati ed esperienza d'uso (Cookies) che appare in fondo alla pagina. \n\n	Avviso: JavaScript è obbligatorio per questo contenuto.
URL:https://farmadomo.ch/formazioni/farmaci-a-domicilio-a-cosa-prestare-attenzione/
LOCATION:Ala Munda 41\, 6528 Camorino\, Switzerland
CATEGORIES:Formazioni dietisti,Formazioni infermieristiche
ORGANIZER;CN="Farmadomo Academy":MAILTO:academy@farmadomo.ch
END:VEVENT
END:VCALENDAR