BEGIN:VCALENDAR
VERSION:2.0
PRODID:-//Farmadomo Home Care Provider SA - ECPv6.15.19//NONSGML v1.0//EN
CALSCALE:GREGORIAN
METHOD:PUBLISH
X-ORIGINAL-URL:https://farmadomo.ch
X-WR-CALDESC:Eventi per Farmadomo Home Care Provider SA
REFRESH-INTERVAL;VALUE=DURATION:PT1H
X-Robots-Tag:noindex
X-PUBLISHED-TTL:PT1H
BEGIN:VTIMEZONE
TZID:Europe/Zurich
BEGIN:DAYLIGHT
TZOFFSETFROM:+0100
TZOFFSETTO:+0200
TZNAME:CEST
DTSTART:20250330T010000
END:DAYLIGHT
BEGIN:STANDARD
TZOFFSETFROM:+0200
TZOFFSETTO:+0100
TZNAME:CET
DTSTART:20251026T010000
END:STANDARD
BEGIN:DAYLIGHT
TZOFFSETFROM:+0100
TZOFFSETTO:+0200
TZNAME:CEST
DTSTART:20260329T010000
END:DAYLIGHT
BEGIN:STANDARD
TZOFFSETFROM:+0200
TZOFFSETTO:+0100
TZNAME:CET
DTSTART:20261025T010000
END:STANDARD
BEGIN:DAYLIGHT
TZOFFSETFROM:+0100
TZOFFSETTO:+0200
TZNAME:CEST
DTSTART:20270328T010000
END:DAYLIGHT
BEGIN:STANDARD
TZOFFSETFROM:+0200
TZOFFSETTO:+0100
TZNAME:CET
DTSTART:20271031T010000
END:STANDARD
END:VTIMEZONE
BEGIN:VEVENT
DTSTART;TZID=Europe/Zurich:20261001T133000
DTEND;TZID=Europe/Zurich:20261001T173000
DTSTAMP:20260421T103210
CREATED:20260401T133045Z
LAST-MODIFIED:20260401T133306Z
UID:11688-1790861400-1790875800@farmadomo.ch
SUMMARY:Disturbi del comportamento alimentare (anoressia e bulimia) in età pediatrica: diagnosi e cura
DESCRIPTION:OBIETTIVO DEL CORSO\n\nSaper riconoscere un disagio nell’adolescente\nIndividuare una condotta alimentare scorretta\nAcquisire gli strumenti per la gestione di un adolescente con diagnosi di DCA in famiglia e nella società\nAlimentazione e DCA\nAttestato di frequenza\nECS: 4 crediti (Regolamento sistema ECS)\nSVDE: 4 crediti\n\n			\n				\n				\n				\n				\n				\n				\n				\n					\n				\n			\n				\n			\n				Locandina in PDF\n			\n			\n				\n				\n				\n				\n			\n				\n				\n				\n				\n				\n				\n				\n				\n				\n				\n				\n			\n				\n				\n				\n				\n				4 ECS\n			\n			\n				\n				\n				\n				\n				\n				\n				\n				\n				\n				\n			\n				\n				\n				\n				\n				4 SVDE\n			\n			\n				\n				\n				\n				\n				\n			\n				\n				\n				\n				\n				\n			\n				\n				\n				\n				\n				\n			\n				\n				\n				\n				\n			\n				\n				\n				\n				\n				\n				\n				\n				\n				\n				\n				FORMATORE / I\nDr. ssa Elisabetta Ferrucci\, caposervizio\, FMH pediatria e nutrizione clinica in età pediatrica \nAnna Beretti\, dietista diplomata ASDD specializzata in Disturbi del Comportamento Alimentare in età pediatrica \n			\n			\n				\n				\n				\n				\n			\n				\n				\n				\n				\n				\n				\n				\n				\n				\n				\n				MODULO DI ISCRIZIONE\n\n	Avviso: JavaScript è obbligatorio per questo contenuto.
URL:https://farmadomo.ch/formazioni/disturbi-del-comportamento-alimentare-anoressia-e-bulimia-in-eta-pediatrica-diagnosi-e-cura-2/
LOCATION:Ala Munda 41\, 6528 Camorino\, Switzerland
CATEGORIES:Formazioni dietisti,Formazioni infermieristiche
ORGANIZER;CN="Farmadomo Academy":MAILTO:academy@farmadomo.ch
END:VEVENT
END:VCALENDAR