BEGIN:VCALENDAR
VERSION:2.0
PRODID:-//Farmadomo Home Care Provider SA - ECPv6.15.19//NONSGML v1.0//EN
CALSCALE:GREGORIAN
METHOD:PUBLISH
X-ORIGINAL-URL:https://farmadomo.ch
X-WR-CALDESC:Eventi per Farmadomo Home Care Provider SA
REFRESH-INTERVAL;VALUE=DURATION:PT1H
X-Robots-Tag:noindex
X-PUBLISHED-TTL:PT1H
BEGIN:VTIMEZONE
TZID:Europe/Zurich
BEGIN:DAYLIGHT
TZOFFSETFROM:+0100
TZOFFSETTO:+0200
TZNAME:CEST
DTSTART:20250330T010000
END:DAYLIGHT
BEGIN:STANDARD
TZOFFSETFROM:+0200
TZOFFSETTO:+0100
TZNAME:CET
DTSTART:20251026T010000
END:STANDARD
BEGIN:DAYLIGHT
TZOFFSETFROM:+0100
TZOFFSETTO:+0200
TZNAME:CEST
DTSTART:20260329T010000
END:DAYLIGHT
BEGIN:STANDARD
TZOFFSETFROM:+0200
TZOFFSETTO:+0100
TZNAME:CET
DTSTART:20261025T010000
END:STANDARD
BEGIN:DAYLIGHT
TZOFFSETFROM:+0100
TZOFFSETTO:+0200
TZNAME:CEST
DTSTART:20270328T010000
END:DAYLIGHT
BEGIN:STANDARD
TZOFFSETFROM:+0200
TZOFFSETTO:+0100
TZNAME:CET
DTSTART:20271031T010000
END:STANDARD
END:VTIMEZONE
BEGIN:VEVENT
DTSTART;TZID=Europe/Zurich:20260928T130000
DTEND;TZID=Europe/Zurich:20260928T170000
DTSTAMP:20260421T102141
CREATED:20260401T092927Z
LAST-MODIFIED:20260401T104837Z
UID:11678-1790600400-1790614800@farmadomo.ch
SUMMARY:Alimentazione vegetariana e vegana: esistono carenze nutrizionali? Esistono integratori adeguati alle richieste? (in presenza e via Zoom)
DESCRIPTION:OBIETTIVO DEL CORSO\n\nGestire in modo efficace pazienti vegani e vegetariani\, considerando le loro specifiche esigenze nutrizionali\nMigliorare l'alleanza terapeutica con i pazienti attraverso una comunicazione informata e rispettosa delle loro scelte alimentari.\nRispondere in modo chiaro e competente ai dubbi più frequenti sull'alimentazione vegetale.\nAttestato di frequenza\nECS: 4 crediti (Regolamento sistema ECS)SVDE: 4 crediti\n\n			\n				\n				\n				\n				\n				\n				\n				\n					\n				\n			\n				\n			\n				Locandina in PDF\n			\n			\n				\n				\n				\n				\n			\n				\n				\n				\n				\n				\n				\n				\n				\n				\n				\n				\n			\n				\n				\n				\n				\n				4 ECS\n			\n			\n				\n				\n				\n				\n				\n				\n				\n				\n				\n				\n			\n				\n				\n				\n				\n				4 SVDE\n			\n			\n				\n				\n				\n				\n				\n			\n				\n				\n				\n				\n				\n			\n				\n				\n				\n				\n				\n			\n				\n				\n				\n				\n			\n				\n				\n				\n				\n				\n				\n				\n				\n				\n				\n				FORMATORE / I\nDr.ssa Cristina Berra\, medico specialista in scienze dell'alimentazione e specializzata in alimentazione plant based \nDr.ssa Chiara Gotardo\, dietista con master in alimentazione e dietetica vegetariana \nAnna Beretti\, dietista diplomata ASDD specializzata in Disturbi del Comportamento Alimentare in età pediatrica\n			\n			\n				\n				\n				\n				\n			\n				\n				\n				\n				\n				\n				\n				\n				\n				\n				\n				MODULO DI ISCRIZIONE\nPer poter inviare il modulo di iscrizione è necessario accettare l'informativa sulla protezione dei dati ed esperienza d'uso (Cookies) che appare in fondo alla pagina. \n\n	Avviso: JavaScript è obbligatorio per questo contenuto.
URL:https://farmadomo.ch/formazioni/alimentazione-vegetariana-e-vegana-esistono-carenze-nutrizionali-esistono-integratori-adeguati-alle-richieste/
LOCATION:Ala Munda 41\, 6528 Camorino\, Switzerland
CATEGORIES:Formazioni dietisti,Formazioni infermieristiche
ORGANIZER;CN="Farmadomo Academy":MAILTO:academy@farmadomo.ch
END:VEVENT
END:VCALENDAR